BEGIN:VCALENDAR
VERSION:2.0
PRODID:-//School of agriculture and Environmental Science - ECPv6.9.0//NONSGML v1.0//EN
CALSCALE:GREGORIAN
METHOD:PUBLISH
X-ORIGINAL-URL:https://saes.mut.ac.ke
X-WR-CALDESC:Events for School of agriculture and Environmental Science
REFRESH-INTERVAL;VALUE=DURATION:PT1H
X-Robots-Tag:noindex
X-PUBLISHED-TTL:PT1H
BEGIN:VTIMEZONE
TZID:Europe/Moscow
BEGIN:STANDARD
TZOFFSETFROM:+0300
TZOFFSETTO:+0300
TZNAME:MSK
DTSTART:20250101T000000
END:STANDARD
END:VTIMEZONE
BEGIN:VEVENT
DTSTART;VALUE=DATE:20250924
DTEND;VALUE=DATE:20250927
DTSTAMP:20260422T013528
CREATED:20250924T065519Z
LAST-MODIFIED:20250924T065700Z
UID:11260-1758672000-1758931199@saes.mut.ac.ke
SUMMARY:Kilimo Festival and Conference 2025
DESCRIPTION:
URL:https://saes.mut.ac.ke/event/kilimo-festival-and-conference-2025/
LOCATION:murang’a university\, 75-10200\, Murang'a\, 10200\, Kenya
ATTACH;FMTTYPE=image/jpeg:https://saes.mut.ac.ke/wp-content/uploads/2025/09/kilimo-festival-and-conference-scaled.jpg
ORGANIZER;CN="Murang'a University":MAILTO:info@mut.ac.ke
END:VEVENT
END:VCALENDAR